BEGIN:VCALENDAR
VERSION:2.0
PRODID:-//Get Back UP Today - ECPv6.15.20//NONSGML v1.0//EN
CALSCALE:GREGORIAN
METHOD:PUBLISH
X-WR-CALNAME:Get Back UP Today
X-ORIGINAL-URL:https://www.getbackuptoday.com
X-WR-CALDESC:Events for Get Back UP Today
REFRESH-INTERVAL;VALUE=DURATION:PT1H
X-Robots-Tag:noindex
X-PUBLISHED-TTL:PT1H
BEGIN:VTIMEZONE
TZID:UTC
BEGIN:STANDARD
TZOFFSETFROM:+0000
TZOFFSETTO:+0000
TZNAME:UTC
DTSTART:20180101T000000
END:STANDARD
END:VTIMEZONE
BEGIN:VEVENT
DTSTART;TZID=UTC:20190306T080000
DTEND;TZID=UTC:20190308T170000
DTSTAMP:20260422T122347
CREATED:20190314T145339Z
LAST-MODIFIED:20190319T122909Z
UID:12884-1551859200-1552064400@www.getbackuptoday.com
SUMMARY:AAOP Conference
DESCRIPTION:  \nAdam will be speaking at the conference. \nAbout:\nThe Academy\, founded in 1970\, is the professional organization representing certified practitioners\, state-licensed practitioners\, assistants\, technicians\, fitters\, and others affiliated with the profession of orthotics and prosthetics (O&P). The Academy is dedicated to helping members provide the highest level of professionalism and service to their patients. \nThe Academy is the premier source of learning\, knowledge\, and research for the orthotic and prosthetic profession\, providing professional resources\, continuing education\, and advocacy to enhance the skill level and awareness of orthotic and prosthetic professionals. \nMission : \nThe American Academy of Orthotists and Prosthetists is dedicated to promoting professionalism and advancing the standards of patient care through education\, literature\, research\, advocacy\, and collaboration.
URL:https://www.getbackuptoday.com/co-captain-events/aaop-conference/
LOCATION:Caribe Royale Orlando\, 8101 World Center Drive\, Orlando\, FL\, 32821\, United States
CATEGORIES:Adam
ATTACH;FMTTYPE=image/jpeg:https://www.getbackuptoday.com/wp-content/uploads/2019/03/AAOP-Conference-2019.jpg
ORGANIZER;CN="American Academy of Orthotists and Prosthetists(AAOP)":MAILTO:info@oandp.org
END:VEVENT
END:VCALENDAR