BEGIN:VCALENDAR
VERSION:2.0
PRODID:-//Get Back UP Today - ECPv6.15.20//NONSGML v1.0//EN
CALSCALE:GREGORIAN
METHOD:PUBLISH
X-ORIGINAL-URL:https://www.getbackuptoday.com
X-WR-CALDESC:Events for Get Back UP Today
REFRESH-INTERVAL;VALUE=DURATION:PT1H
X-Robots-Tag:noindex
X-PUBLISHED-TTL:PT1H
BEGIN:VTIMEZONE
TZID:UTC
BEGIN:STANDARD
TZOFFSETFROM:+0000
TZOFFSETTO:+0000
TZNAME:UTC
DTSTART:20180101T000000
END:STANDARD
END:VTIMEZONE
BEGIN:VEVENT
DTSTART;TZID=UTC:20190901T070000
DTEND;TZID=UTC:20190901T170000
DTSTAMP:20260420T044256
CREATED:20190319T131327Z
LAST-MODIFIED:20190319T131327Z
UID:13078-1567321200-1567357200@www.getbackuptoday.com
SUMMARY:Rock 'N' Roll 1/2 Marathon
DESCRIPTION:About:
URL:https://www.getbackuptoday.com/co-captain-events/rock-n-roll-1-2-marathon/
LOCATION:RockNRoll Marathon\, Virginia Beach\, Virginia
CATEGORIES:Beth
ORGANIZER;CN="RockNRoll Marathon":MAILTO:rnrvb@runrocknroll.com
END:VEVENT
BEGIN:VEVENT
DTSTART;TZID=UTC:20190415T080000
DTEND;TZID=UTC:20190415T170000
DTSTAMP:20260420T044256
CREATED:20190319T130605Z
LAST-MODIFIED:20190516T185538Z
UID:13074-1555315200-1555347600@www.getbackuptoday.com
SUMMARY:Boston Marathon
DESCRIPTION:About:\nThe Boston Marathon is the world’s oldest annual marathon and ranks as one of the world’s most prestigious road racing events. The B.A.A. continues to manage this American classic\, which has been sponsored by John Hancock Financial since 1986. The Boston Marathon has distinguished itself as the pinnacle event within the sport of road racing by virtue of its traditions\, longevity\, and method of gaining entry into the race (via qualification). Beth and Wendy will be running in this year’s race.
URL:https://www.getbackuptoday.com/co-captain-events/boston-marathon/
LOCATION:Boston Marathon\, Boston\, Massachusetts
CATEGORIES:Beth,Wendy
ORGANIZER;CN="Boston Marathon":MAILTO:info@baa.org
END:VEVENT
BEGIN:VEVENT
DTSTART;VALUE=DATE:20190319
DTEND;VALUE=DATE:20190324
DTSTAMP:20260420T044256
CREATED:20190319T125854Z
LAST-MODIFIED:20190319T125854Z
UID:13070-1552953600-1553385599@www.getbackuptoday.com
SUMMARY:NDTA Conference
DESCRIPTION:About:\nNDT is a holistic and interdisciplinary clinical practice model informed by current and evolving research that emphasizes individualized therapeutic handling based on movement analysis for habilitation and rehabilitation of individuals with neurological pathophysiology. The therapist uses the International Classification of Functioning\, Disability\, and Health (ICF) model in a problem solving approach to assess activity and participation\, thereby to identify and prioritize relevant integrities and impairments as a basis for establishing achievable outcomes with clients and caregivers. An in-depth knowledge of the human movement system\, including the understanding of typical and atypical development\, and expertise in analyzing postural control\, movement\, activity\, and participation throughout the lifespan\, form the basis for examination\, evaluation\, and intervention. Therapeutic handling\, used during evaluation and intervention\, consists of a dynamic reciprocal interaction between the client and therapist for activating optimal sensorimotor processing\, task performance\, and skill acquisition to enable participation in meaningful activities. More Information >>
URL:https://www.getbackuptoday.com/co-captain-events/ndta-conference/
LOCATION:SHERATON CHARLOTTE\, NC\, 555 South McDowell Street South Tower\, Charlotte\, NC\, 28204
CATEGORIES:Beth
ORGANIZER;CN="NDTA":MAILTO:info@ndta.org
END:VEVENT
BEGIN:VEVENT
DTSTART;TZID=UTC:20190317T073000
DTEND;TZID=UTC:20190317T160000
DTSTAMP:20260420T044256
CREATED:20190319T124425Z
LAST-MODIFIED:20190319T124643Z
UID:13065-1552807800-1552838400@www.getbackuptoday.com
SUMMARY:Shamrock Marathon
DESCRIPTION:About:\nThe Yuengling Shamrock Marathon is the oldest continuously running road race in Virginia Beach! The marathon course is flat and fast\, making it the perfect place for a PR (personal record). Participants will enjoy spectators and entertainment along the course as well as a festive finish line celebration. \nMarathoners begin by heading north from the Virginia Beach resort area through welcoming neighborhoods. The course then traverses tree-lined Shore Drive as it winds along First Landing State Park on its way to Joint Expeditionary Base\, Ft. Story. In Ft. Story participants will pass by the site where John Smith\, Christopher Newport\, John Rolfe and the other Jamestown colonists first landed in America in 1607\, and by Cape Henry Lighthouse–the oldest standing lighthouse in the United States. The course then heads south into the resort area\, across Rudee Inlet–the gateway to the Atlantic Ocean–and through stately neighborhoods and the Camp Pendleton military base. Participants return north before finishing on the world famous Virginia Beach Boardwalk.  The finish line awaits you just past the majestic figure of King Neptune with the beautiful Atlantic Ocean as a backdrop.
URL:https://www.getbackuptoday.com/co-captain-events/13065/
LOCATION:Shamrock Marathon\, 3601 Shore Drive\, Virginia Beach\, Virginia\, 23455
CATEGORIES:Beth
ORGANIZER;CN="Shamrock Marathon":MAILTO:info@shamrockmarathon.com
END:VEVENT
END:VCALENDAR