BEGIN:VCALENDAR
VERSION:2.0
PRODID:-//Get Back UP Today - ECPv6.15.20//NONSGML v1.0//EN
CALSCALE:GREGORIAN
METHOD:PUBLISH
X-ORIGINAL-URL:https://www.getbackuptoday.com
X-WR-CALDESC:Events for Get Back UP Today
REFRESH-INTERVAL;VALUE=DURATION:PT1H
X-Robots-Tag:noindex
X-PUBLISHED-TTL:PT1H
BEGIN:VTIMEZONE
TZID:UTC
BEGIN:STANDARD
TZOFFSETFROM:+0000
TZOFFSETTO:+0000
TZNAME:UTC
DTSTART:20180101T000000
END:STANDARD
END:VTIMEZONE
BEGIN:VEVENT
DTSTART;VALUE=DATE:20190912
DTEND;VALUE=DATE:20190916
DTSTAMP:20260421T135405
CREATED:20190412T192606Z
LAST-MODIFIED:20190423T211307Z
UID:14075-1568246400-1568591999@www.getbackuptoday.com
SUMMARY:UCI Para-Cycling Road World Championships
DESCRIPTION:About:\nThe 2019 UCI Para-cycling Road World Championships is the finale of a three-part championships series for road cycling. The 2019 season kicked off in May with the opening rounds taking place in Corridonia\, Italy\, with the second round taking place a week later in Ostend\, Belgium. This major international event takes place annually and is put on by the Union Cycliste Internationale (UCI)\, which is the worldwide governing body for cycling. Jamie\, Jill and Steven will be participating.
URL:https://www.getbackuptoday.com/co-captain-events/uci-para-cycling-road-world-championships/
LOCATION:Emmen\, Netherlands
CATEGORIES:Jamie,Jill,Steven
ORGANIZER;CN="UCI":MAILTO:admin@uci.ch
END:VEVENT
BEGIN:VEVENT
DTSTART;TZID=UTC:20190820T080000
DTEND;TZID=UTC:20190901T170000
DTSTAMP:20260421T135405
CREATED:20190410T205124Z
LAST-MODIFIED:20190423T211043Z
UID:14061-1566288000-1567357200@www.getbackuptoday.com
SUMMARY:Para-Panam Road Cycling
DESCRIPTION:About:\nThis will be the 6th edition of the Para Pan-American Games\, which started in 1999. The 2019 games will feature 1\,850 athletes from 33 countries competing in 17 sports. Jamie will be competing in Road Cycling. This event consists of individual and team competitions including both men’s and women’s Time Trial and Road Race. Both Jamie\, Jill and Steven will be participating in the 2019 games.
URL:https://www.getbackuptoday.com/co-captain-events/para-panam-road-cycling/
LOCATION:Lima\, Peru
CATEGORIES:Jamie,Jill,Steven
END:VEVENT
BEGIN:VEVENT
DTSTART;VALUE=DATE:20190808
DTEND;VALUE=DATE:20190812
DTSTAMP:20260421T135405
CREATED:20190319T122227Z
LAST-MODIFIED:20190423T210856Z
UID:13057-1565222400-1565567999@www.getbackuptoday.com
SUMMARY:Paracycling World Cup 3
DESCRIPTION:  \n  \n  \n  \n  \nAbout:\nPara-cycling has been officially administered by the UCI since an agreement to transfer governance of the discipline from the International Paralympic Committee was signed on 7 February 2007. This discipline is divided into road and track races for a total of seven events. Becky\, Jamie\, Jill and Steven will be participating in this event. \n  \n 
URL:https://www.getbackuptoday.com/co-captain-events/paracycling-world-cup/
LOCATION:Baie-Comeau\, Canada
CATEGORIES:Becky,Jamie,Jill,Steven
END:VEVENT
BEGIN:VEVENT
DTSTART;VALUE=DATE:20190627
DTEND;VALUE=DATE:20190628
DTSTAMP:20260421T135405
CREATED:20190319T120624Z
LAST-MODIFIED:20190423T210627Z
UID:13042-1561593600-1561679999@www.getbackuptoday.com
SUMMARY:2019 USA Cycling Para-cycling Road National Championships
DESCRIPTION:  \n  \n  \n  \n  \n  \nAbout:\nOur mission is to develop the sport of cycling in the United States at all levels by bringing together cyclists\, coaches\, community leaders\, volunteers\, and fans to create communities that want to see the sport of cycling prosper. We turn the passion so many have for cycling into opportunities to enjoy the sport. Becky\, Jamie\, Jill and Steven will be participating in this year’s event. 
URL:https://www.getbackuptoday.com/co-captain-events/2019-usa-cycling-para-cycling-road-national-championships/
LOCATION:Knoxville\, TN
CATEGORIES:Becky,Jamie,Jill,Steven
END:VEVENT
BEGIN:VEVENT
DTSTART;VALUE=DATE:20190516
DTEND;VALUE=DATE:20190520
DTSTAMP:20260421T135405
CREATED:20190410T193015Z
LAST-MODIFIED:20190423T204847Z
UID:14049-1557964800-1558310399@www.getbackuptoday.com
SUMMARY:UCI Para-Cycling Road World Cup 2
DESCRIPTION:About:\nThe 2019 UCI Para-cycling Road World Cup is a multi-part series of world championships for road cycling. The 2019 season kicks off in May with the opening rounds taking place in Corridonia\, Italy from 5/9-5/12. This is followed by round No.2 in Ostend\, Belgium from 5/16-5/19 May. The second part in this series lasts for four days and showcases events including the time trial\, road race and team relay. This major international event takes place annually and is put on by the Union Cycliste Internationale (UCI)\, which is the worldwide governing body for cycling. Jamie\, Jill and Steven will participate in 2019’s event.
URL:https://www.getbackuptoday.com/co-captain-events/uci-para-cycling-road-world-cup-2/
LOCATION:Oostend\, Belgium
CATEGORIES:Jamie,Jill,Steven
ORGANIZER;CN="UCI":MAILTO:admin@uci.ch
END:VEVENT
BEGIN:VEVENT
DTSTART;VALUE=DATE:20190505
DTEND;VALUE=DATE:20190513
DTSTAMP:20260421T135405
CREATED:20190410T192510Z
LAST-MODIFIED:20190423T204654Z
UID:14045-1557014400-1557705599@www.getbackuptoday.com
SUMMARY:UCI Para-Cycling Road World Cup 1
DESCRIPTION:About:\nThe 2019 UCI Para-cycling Road World Cup is a multi-part series of world championships for road cycling. The 2019 season kicks off in May with the opening rounds taking place in Corridonia\, Italy from 5/9-5/12. This is followed by round No.2 in Ostend\, Belgium from 5/16-5/19 May\, where the team has a chance to compete in Europe on back-to-back weekends. This major international event takes place annually and is put on by the Union Cycliste Internationale (UCI)\, which is the worldwide governing body for cycling. Jamie\, Jill and Steven will participate in this event in 2019. \n 
URL:https://www.getbackuptoday.com/co-captain-events/uci-para-cycling-road-world-cup-1/
LOCATION:Corridonia\, Italy
CATEGORIES:Jamie,Jill,Steven
ORGANIZER;CN="ASD Giubileo Disabili":MAILTO:info@giubileodisabiliroma.it
END:VEVENT
BEGIN:VEVENT
DTSTART;VALUE=DATE:20190314
DTEND;VALUE=DATE:20190318
DTSTAMP:20260421T135405
CREATED:20190409T193135Z
LAST-MODIFIED:20190409T194536Z
UID:13979-1552521600-1552867199@www.getbackuptoday.com
SUMMARY:UCI Para-cycling Track World Championships
DESCRIPTION:About:\nThe Para-cycling Track World Championships is the world championships for track cycling. This major international event takes place annually and is put on by the Union Cycliste Internationale (UCI)\, which is the worldwide governing body for cycling. This championship series has been attracting the world’s best para-cyclers since 2007. Events are held in five discipline; match sprint\, team sprint\, time trial\, individual pursuit and scratch race. \n  \n 
URL:https://www.getbackuptoday.com/co-captain-events/uci-para-cycling-track-world-championships/
LOCATION:Omnisport Apeldoorn\, Apeldoorn\, Netherlands
CATEGORIES:Jamie
ORGANIZER;CN="UCI":MAILTO:admin@uci.ch
END:VEVENT
END:VCALENDAR