BEGIN:VCALENDAR
VERSION:2.0
PRODID:-//Get Back UP Today - ECPv6.15.20//NONSGML v1.0//EN
CALSCALE:GREGORIAN
METHOD:PUBLISH
X-ORIGINAL-URL:https://www.getbackuptoday.com
X-WR-CALDESC:Events for Get Back UP Today
REFRESH-INTERVAL;VALUE=DURATION:PT1H
X-Robots-Tag:noindex
X-PUBLISHED-TTL:PT1H
BEGIN:VTIMEZONE
TZID:UTC
BEGIN:STANDARD
TZOFFSETFROM:+0000
TZOFFSETTO:+0000
TZNAME:UTC
DTSTART:20180101T000000
END:STANDARD
END:VTIMEZONE
BEGIN:VEVENT
DTSTART;VALUE=DATE:20190313
DTEND;VALUE=DATE:20190318
DTSTAMP:20260421T155612
CREATED:20190412T194420Z
LAST-MODIFIED:20190415T203323Z
UID:14078-1552435200-1552867199@www.getbackuptoday.com
SUMMARY:Redlands Bicycle Classic
DESCRIPTION:About:\nThe Redlands Bicycle Classic is the longest continuous running invitational\, professional stage race in American bike racing. Each year\, the City of Redlands and surrounding communities open their homes\, their hearts and their streets to world-class athletes. The PossAbilities Para-cycle Race Series takes place in conjunction with the classic and is made up of four stages/events: time trial\, road race and para-cycle criterium. Both Jill and Steven will be participating in this year’s event. \n 
URL:https://www.getbackuptoday.com/co-captain-events/redlands-bicycle-classic/
LOCATION:Redlands\, CA
CATEGORIES:Jill,Steven
ORGANIZER;CN="Redlands Bicycle Classic":MAILTO:COWilliams@llu.edu
END:VEVENT
BEGIN:VEVENT
DTSTART;VALUE=DATE:20190303
DTEND;VALUE=DATE:20190310
DTSTAMP:20260421T155612
CREATED:20190412T210652Z
LAST-MODIFIED:20190412T210652Z
UID:14093-1551571200-1552175999@www.getbackuptoday.com
SUMMARY:USMES Spring Training Camp
DESCRIPTION:About:\nUS Military Endurance Sports (USMES) is a non-profit 501(c)3 organization chartered to support endurance sports education and activities for current\, retired\, and Veteran members of the Uniformed Services. In addition to supporting active cyclists\, adaptive cyclists and triathletes\, USMES seeks to raise awareness of the physical and psychological benefits of endurance sports within our military communities. The Spring Training Camp is a cycling camp put on through their partnership with TriSports that gives participants of all levels the opportunity to cycle the roads of Tucson.
URL:https://www.getbackuptoday.com/co-captain-events/usmes-spring-training-camp/
LOCATION:Tucson\, AZ
CATEGORIES:Steven
END:VEVENT
END:VCALENDAR