BEGIN:VCALENDAR
VERSION:2.0
PRODID:-//Get Back UP Today - ECPv6.15.20//NONSGML v1.0//EN
CALSCALE:GREGORIAN
METHOD:PUBLISH
X-ORIGINAL-URL:https://www.getbackuptoday.com
X-WR-CALDESC:Events for Get Back UP Today
REFRESH-INTERVAL;VALUE=DURATION:PT1H
X-Robots-Tag:noindex
X-PUBLISHED-TTL:PT1H
BEGIN:VTIMEZONE
TZID:UTC
BEGIN:STANDARD
TZOFFSETFROM:+0000
TZOFFSETTO:+0000
TZNAME:UTC
DTSTART:20180101T000000
END:STANDARD
END:VTIMEZONE
BEGIN:VEVENT
DTSTART;TZID=UTC:20190310T080000
DTEND;TZID=UTC:20190310T170000
DTSTAMP:20260421T134516
CREATED:20190425T154154Z
LAST-MODIFIED:20190425T154217Z
UID:14148-1552204800-1552237200@www.getbackuptoday.com
SUMMARY:Arizona Distance Classic
DESCRIPTION:About:\nThe Arizona Distance Classic – described as the most scenic Arizona race event of the year – is a half marathon\, quarter marathon and 5k run/walk open to runners and walkers of all fitness levels. Todd will be volunteering at this year’s event.
URL:https://www.getbackuptoday.com/co-captain-events/arizona-distance-classic/
LOCATION:Oro Valley\, AZ
CATEGORIES:Todd
ORGANIZER;CN="Northwest Healthcare":MAILTO:Info@ArizonaDistanceClassic.com
END:VEVENT
END:VCALENDAR