BEGIN:VCALENDAR
VERSION:2.0
PRODID:-//Get Back UP Today - ECPv6.15.20//NONSGML v1.0//EN
CALSCALE:GREGORIAN
METHOD:PUBLISH
X-WR-CALNAME:Get Back UP Today
X-ORIGINAL-URL:https://www.getbackuptoday.com
X-WR-CALDESC:Events for Get Back UP Today
REFRESH-INTERVAL;VALUE=DURATION:PT1H
X-Robots-Tag:noindex
X-PUBLISHED-TTL:PT1H
BEGIN:VTIMEZONE
TZID:UTC
BEGIN:STANDARD
TZOFFSETFROM:+0000
TZOFFSETTO:+0000
TZNAME:UTC
DTSTART:20180101T000000
END:STANDARD
END:VTIMEZONE
BEGIN:VEVENT
DTSTART;VALUE=DATE:20190714
DTEND;VALUE=DATE:20190720
DTSTAMP:20260420T144404
CREATED:20190509T145142Z
LAST-MODIFIED:20190513T175338Z
UID:14310-1563062400-1563580799@www.getbackuptoday.com
SUMMARY:Junior Nationals
DESCRIPTION:About:\nThe Adaptive Sports USA Junior Nationals is the oldest and largest continuously held competitive sports event for athletes with physical disabilities ages 6 to 22 in North America.This week long national sport championship event is an avenue for young athletes to showcase their abilities through sport and to promote physical activity and socialization. Additionally\, the Championships serve as an opportunity for individuals to advance along the athlete pipeline that may one day lead them to compete at the international level and the Paralympic Games. Summer sports include Archery\, Powerlifting\, Swimming\, Shooting\, Paratriathlon and Track and Field.
URL:https://www.getbackuptoday.com/co-captain-events/junior-nationals/
LOCATION:Eden Prairie\, MN
CATEGORIES:Trent
END:VEVENT
BEGIN:VEVENT
DTSTART;VALUE=DATE:20190608
DTEND;VALUE=DATE:20190610
DTSTAMP:20260420T144404
CREATED:20190508T200113Z
LAST-MODIFIED:20190513T175346Z
UID:14306-1559952000-1560124799@www.getbackuptoday.com
SUMMARY:Junior Masonic Meet
DESCRIPTION: \nAbout:\nThe 2019 Junior Masonic Meet will take place in New Brunswick\, NJ from June 8 – June 9. Athletic events include track\, field\, swimming\, powerlifting\, archery and table tennis. This is a ASUSA sanctioned qualifying meet for athletes in the Junior division to go to the Adaptive Sports USA. It is open to all members in the Junior Division of Adaptive Sports USA (ASUSA) and junior alumni.
URL:https://www.getbackuptoday.com/co-captain-events/junior-masonic-meet/
LOCATION:North Brunswick High School\, New Jersey
CATEGORIES:Trent
END:VEVENT
BEGIN:VEVENT
DTSTART;VALUE=DATE:20190522
DTEND;VALUE=DATE:20190527
DTSTAMP:20260420T144404
CREATED:20190508T190705Z
LAST-MODIFIED:20190513T175358Z
UID:14302-1558483200-1558915199@www.getbackuptoday.com
SUMMARY:Desert Challenge Games
DESCRIPTION:About: \nThe Desert Challenge Games are a multi-day competition for individuals ages 6 through adulthood with a physical\, visual or intellectual disability. Events include Track & Field\, Swimming\, Archery and Air Gun & Rifle. The 2019 event will be part of the World Para Athletics Grand Prix.
URL:https://www.getbackuptoday.com/co-captain-events/desert-challenge-games/
LOCATION:Arizona
CATEGORIES:Trent
END:VEVENT
BEGIN:VEVENT
DTSTART;TZID=UTC:20190302T080000
DTEND;TZID=UTC:20190302T170000
DTSTAMP:20260420T144404
CREATED:20190508T185433Z
LAST-MODIFIED:20190513T175403Z
UID:14299-1551513600-1551546000@www.getbackuptoday.com
SUMMARY:Swim Meet
DESCRIPTION:About:\nTrent will be participating in a swim meet in Rutgers\, NJ on March 2nd.
URL:https://www.getbackuptoday.com/co-captain-events/swim-meet/
LOCATION:Rutgers\, NJ
CATEGORIES:Trent
END:VEVENT
END:VCALENDAR