BEGIN:VCALENDAR
VERSION:2.0
PRODID:-//Get Back UP Today - ECPv6.15.20//NONSGML v1.0//EN
CALSCALE:GREGORIAN
METHOD:PUBLISH
X-WR-CALNAME:Get Back UP Today
X-ORIGINAL-URL:https://www.getbackuptoday.com
X-WR-CALDESC:Events for Get Back UP Today
REFRESH-INTERVAL;VALUE=DURATION:PT1H
X-Robots-Tag:noindex
X-PUBLISHED-TTL:PT1H
BEGIN:VTIMEZONE
TZID:UTC
BEGIN:STANDARD
TZOFFSETFROM:+0000
TZOFFSETTO:+0000
TZNAME:UTC
DTSTART:20180101T000000
END:STANDARD
END:VTIMEZONE
BEGIN:VEVENT
DTSTART;VALUE=DATE:20201108
DTEND;VALUE=DATE:20201109
DTSTAMP:20260419T220305
CREATED:20200312T202402Z
LAST-MODIFIED:20200312T202402Z
UID:16307-1604793600-1604879999@www.getbackuptoday.com
SUMMARY:Athens Marathon
DESCRIPTION:
URL:https://www.getbackuptoday.com/co-captain-events/athens-marathon/
LOCATION:Athens\, Greece\, Greece
CATEGORIES:Wendy
END:VEVENT
BEGIN:VEVENT
DTSTART;TZID=UTC:20190915T080000
DTEND;TZID=UTC:20190915T170000
DTSTAMP:20260419T220305
CREATED:20190516T195202Z
LAST-MODIFIED:20190516T195202Z
UID:14618-1568534400-1568566800@www.getbackuptoday.com
SUMMARY:Cape Town Marathon
DESCRIPTION:About:\nThe Sanlam Cape Town Marathon (42.2km) is a prestigious global city race open to a range of running enthusiasts from elite athletes to social runners.  Along the spectacular route\, you will take in the famous natural beauty of Cape Town’s mountains and sea\, as well as many of the city’s great attractions. The Sanlam Cape Town Marathon is home to ASA Marathon Championships and is Africa’s only IAAF Gold label status marathon. \n 
URL:https://www.getbackuptoday.com/co-captain-events/cape-town-marathon/
LOCATION:Cape Town\, South Africa
CATEGORIES:Wendy
ORGANIZER;CN="Sanlam Cape Town Marathon":MAILTO:https://www.capetownmarathon.com/contact-us/
END:VEVENT
BEGIN:VEVENT
DTSTART;TZID=UTC:20190823T080000
DTEND;TZID=UTC:20190824T170000
DTSTAMP:20260419T220305
CREATED:20190516T192230Z
LAST-MODIFIED:20190516T192230Z
UID:14614-1566547200-1566666000@www.getbackuptoday.com
SUMMARY:Hood to Coast Relay
DESCRIPTION:About:\nEvery year over 12\,000 people race 199 miles from the base of Mt. Hood to the beaches at Seaside through a picturesque course showcasing every landscape Oregon has to offer. Beginning in 1982 with just 8 teams\, this relay style race now regularly features 1\,050 teams of 12 runners (minimum of 6) in an event that spans over the course of two days.
URL:https://www.getbackuptoday.com/co-captain-events/hood-to-coast-relay/
LOCATION:Mt. Hood\, OR
CATEGORIES:Wendy
ORGANIZER;CN="Hood to Coast Relay":MAILTO:office@htcrelay.com
END:VEVENT
BEGIN:VEVENT
DTSTART;TZID=UTC:20190415T080000
DTEND;TZID=UTC:20190415T170000
DTSTAMP:20260419T220305
CREATED:20190319T130605Z
LAST-MODIFIED:20190516T185538Z
UID:13074-1555315200-1555347600@www.getbackuptoday.com
SUMMARY:Boston Marathon
DESCRIPTION:About:\nThe Boston Marathon is the world’s oldest annual marathon and ranks as one of the world’s most prestigious road racing events. The B.A.A. continues to manage this American classic\, which has been sponsored by John Hancock Financial since 1986. The Boston Marathon has distinguished itself as the pinnacle event within the sport of road racing by virtue of its traditions\, longevity\, and method of gaining entry into the race (via qualification). Beth and Wendy will be running in this year’s race.
URL:https://www.getbackuptoday.com/co-captain-events/boston-marathon/
LOCATION:Boston Marathon\, Boston\, Massachusetts
CATEGORIES:Beth,Wendy
ORGANIZER;CN="Boston Marathon":MAILTO:info@baa.org
END:VEVENT
END:VCALENDAR